BEGIN:VCALENDAR
VERSION:2.0
PRODID:-//Gesundes Ostfriesland e.V. - ECPv6.15.20//NONSGML v1.0//EN
CALSCALE:GREGORIAN
METHOD:PUBLISH
X-WR-CALNAME:Gesundes Ostfriesland e.V.
X-ORIGINAL-URL:https://gesundes-ostfriesland.de
X-WR-CALDESC:Veranstaltungen für Gesundes Ostfriesland e.V.
REFRESH-INTERVAL;VALUE=DURATION:PT1H
X-Robots-Tag:noindex
X-PUBLISHED-TTL:PT1H
BEGIN:VTIMEZONE
TZID:Europe/Berlin
BEGIN:DAYLIGHT
TZOFFSETFROM:+0100
TZOFFSETTO:+0200
TZNAME:CEST
DTSTART:20250330T010000
END:DAYLIGHT
BEGIN:STANDARD
TZOFFSETFROM:+0200
TZOFFSETTO:+0100
TZNAME:CET
DTSTART:20251026T010000
END:STANDARD
BEGIN:DAYLIGHT
TZOFFSETFROM:+0100
TZOFFSETTO:+0200
TZNAME:CEST
DTSTART:20260329T010000
END:DAYLIGHT
BEGIN:STANDARD
TZOFFSETFROM:+0200
TZOFFSETTO:+0100
TZNAME:CET
DTSTART:20261025T010000
END:STANDARD
BEGIN:DAYLIGHT
TZOFFSETFROM:+0100
TZOFFSETTO:+0200
TZNAME:CEST
DTSTART:20270328T010000
END:DAYLIGHT
BEGIN:STANDARD
TZOFFSETFROM:+0200
TZOFFSETTO:+0100
TZNAME:CET
DTSTART:20271031T010000
END:STANDARD
END:VTIMEZONE
BEGIN:VEVENT
DTSTART;TZID=Europe/Berlin:20260513T140000
DTEND;TZID=Europe/Berlin:20260513T180000
DTSTAMP:20260422T144637
CREATED:20260310T084458Z
LAST-MODIFIED:20260410T130231Z
UID:761-1778680800-1778695200@gesundes-ostfriesland.de
SUMMARY:3. Telemedizin-Kongress Norddeich FISH & Chips
DESCRIPTION:Telemedizin-Kongress Norddeich – FISH&Chips \n\nLiebe Vereinsmitglieder\, liebe Gesundheitsakteure\, \nbereits zum dritten Mal veranstalten \n\nder Verein Gesundes Ostfriesland e.V.\, \ndie Deutsche Gesellschaft für Telemedizin (DGTelemed e.V.)\, \ndie Dr. Becker Kliniken und \ndie Kassenärztliche Vereinigung Niedersachsen \n\nden Telemedizin-Kongress Norddeich unter der wissenschaftlichen Leitung von PD Dr. med. Eimo Martens (DGTelemed und TUM) und Prof. Dr. Philipp Walther. \nUnter dem Motto FISH&Chips werden die telemedizinischen Einsatzmöglichkeiten digitaler Technologien im ländlichen Raum vorgestellt; Im Anschluss kann bei einem deftigen Matjes-Brötchen diskutiert und ausgetauscht werden. Mit praxisorientiertem Fokus für die Vertreter aus Medizin und Pflege werden in diesem Jahr Projekte aus den Bereichen Telekonsil und Telemonitoring vorgestellt und die Umsetzungsmöglichkeiten in einem Praxisteil besprochen. Telemedizinische Geräte wie digitale Stethoskope\, Ultraschall oder In-Ear-Sensoren werden in einer Ausstellung vorgestellt und können von den Teilnehmenden getestet werden. \nFür die Teilnahme an der Veranstaltung werden Fortbildungspunkte der Ärztekammer vergeben. \nDatum:               Mittwoch\, 13. Mai 2026\, 14 bis 18 Uhr  \nOrt:                     Dr. Becker Klinik\, Norddeich \nEine Einladung mit Programm folgt – wir freuen uns auf Ihre Teilnahme und einen produktiven Diskurs! \nMit besten Grüßen und holl di munter! \nFür den Vorstand \nProf. Dr. Philipp Walther               Kerstin Snakker                 Malte Liebl-Wachsmuth \nVorsitzender                                    Stv. Vorsitzende               Stv. Vorsitzender
URL:https://gesundes-ostfriesland.de/event/3-telemedizin-kongress-norddeich-fish-chips/
LOCATION:Dr. Becker Klinik\, Norddeich\, Badestraße 15\, Norden\, 26506\, Germany
END:VEVENT
END:VCALENDAR